BEGIN:VCALENDAR
VERSION:2.0
PRODID:-//Our Corinella - ECPv6.15.20//NONSGML v1.0//EN
CALSCALE:GREGORIAN
METHOD:PUBLISH
X-WR-CALNAME:Our Corinella
X-ORIGINAL-URL:https://corinella.org.au
X-WR-CALDESC:Events for Our Corinella
REFRESH-INTERVAL;VALUE=DURATION:PT1H
X-Robots-Tag:noindex
X-PUBLISHED-TTL:PT1H
BEGIN:VTIMEZONE
TZID:Australia/Melbourne
BEGIN:STANDARD
TZOFFSETFROM:+1100
TZOFFSETTO:+1000
TZNAME:AEST
DTSTART:20210403T160000
END:STANDARD
BEGIN:DAYLIGHT
TZOFFSETFROM:+1000
TZOFFSETTO:+1100
TZNAME:AEDT
DTSTART:20211002T160000
END:DAYLIGHT
BEGIN:STANDARD
TZOFFSETFROM:+1100
TZOFFSETTO:+1000
TZNAME:AEST
DTSTART:20220402T160000
END:STANDARD
BEGIN:DAYLIGHT
TZOFFSETFROM:+1000
TZOFFSETTO:+1100
TZNAME:AEDT
DTSTART:20221001T160000
END:DAYLIGHT
BEGIN:STANDARD
TZOFFSETFROM:+1100
TZOFFSETTO:+1000
TZNAME:AEST
DTSTART:20230401T160000
END:STANDARD
BEGIN:DAYLIGHT
TZOFFSETFROM:+1000
TZOFFSETTO:+1100
TZNAME:AEDT
DTSTART:20230930T160000
END:DAYLIGHT
BEGIN:STANDARD
TZOFFSETFROM:+1100
TZOFFSETTO:+1000
TZNAME:AEST
DTSTART:20240406T160000
END:STANDARD
BEGIN:DAYLIGHT
TZOFFSETFROM:+1000
TZOFFSETTO:+1100
TZNAME:AEDT
DTSTART:20241005T160000
END:DAYLIGHT
BEGIN:STANDARD
TZOFFSETFROM:+1100
TZOFFSETTO:+1000
TZNAME:AEST
DTSTART:20250405T160000
END:STANDARD
BEGIN:DAYLIGHT
TZOFFSETFROM:+1000
TZOFFSETTO:+1100
TZNAME:AEDT
DTSTART:20251004T160000
END:DAYLIGHT
BEGIN:STANDARD
TZOFFSETFROM:+1100
TZOFFSETTO:+1000
TZNAME:AEST
DTSTART:20260404T160000
END:STANDARD
BEGIN:DAYLIGHT
TZOFFSETFROM:+1000
TZOFFSETTO:+1100
TZNAME:AEDT
DTSTART:20261003T160000
END:DAYLIGHT
BEGIN:STANDARD
TZOFFSETFROM:+1100
TZOFFSETTO:+1000
TZNAME:AEST
DTSTART:20270403T160000
END:STANDARD
BEGIN:DAYLIGHT
TZOFFSETFROM:+1000
TZOFFSETTO:+1100
TZNAME:AEDT
DTSTART:20271002T160000
END:DAYLIGHT
END:VTIMEZONE
BEGIN:VEVENT
DTSTART;TZID=Australia/Melbourne:20260404T100000
DTEND;TZID=Australia/Melbourne:20260404T120000
DTSTAMP:20260424T065317
CREATED:20240902T021422Z
LAST-MODIFIED:20251103T004458Z
UID:1349-1775296800-1775304000@corinella.org.au
SUMMARY:Our Corinella (CRRA) General Meeting
DESCRIPTION:Agenda and Financial Report will be emailed directly to financial members \n\n\n\nAny queries or concerns can be directed to us using the Contact Us page on this website
URL:https://corinella.org.au/event/our-corinella-crra-general-meeting-5/
LOCATION:Corinella and District Community Centre\, 48 Smythe Street\, Corinella\, VIC\, 3984\, Australia
CATEGORIES:General Meetings
ORGANIZER;CN="CRRA Secretary":MAILTO:crra3984secretary@gmail.com
END:VEVENT
BEGIN:VEVENT
DTSTART;TZID=Australia/Melbourne:20260207T100000
DTEND;TZID=Australia/Melbourne:20260207T120000
DTSTAMP:20260424T065317
CREATED:20240902T021545Z
LAST-MODIFIED:20251103T004424Z
UID:1351-1770458400-1770465600@corinella.org.au
SUMMARY:Our Corinella (CRRA) General Meeting
DESCRIPTION:Agenda and Financial Report will be emailed directly to financial members \n\n\n\nAny queries or concerns can be directed to us using the Contact Us page on this website
URL:https://corinella.org.au/event/our-corinella-crra-general-meeting-6/
LOCATION:Corinella and District Community Centre\, 48 Smythe Street\, Corinella\, VIC\, 3984\, Australia
CATEGORIES:General Meetings
ORGANIZER;CN="CRRA Secretary":MAILTO:crra3984secretary@gmail.com
END:VEVENT
BEGIN:VEVENT
DTSTART;TZID=Australia/Melbourne:20251213T180000
DTEND;TZID=Australia/Melbourne:20251213T210000
DTSTAMP:20260424T065317
CREATED:20251103T013056Z
LAST-MODIFIED:20251103T013102Z
UID:1359-1765648800-1765659600@corinella.org.au
SUMMARY:Carols in the Park 2025
DESCRIPTION:SAVE THE DATE!
URL:https://corinella.org.au/event/carols-in-the-park-2025/
LOCATION:Harold Hughes Reserve\, Cnr Smythe and Balcombe Streets\, CORINELLA\, VIC\, 3984\, Australia
CATEGORIES:Social
ATTACH;FMTTYPE=image/jpeg:https://corinella.org.au/wp-content/uploads/2024/09/571319776_849100970786721_904357832398825637_n-2.jpg
END:VEVENT
BEGIN:VEVENT
DTSTART;TZID=Australia/Melbourne:20251206T100000
DTEND;TZID=Australia/Melbourne:20251206T120000
DTSTAMP:20260424T065317
CREATED:20240902T021810Z
LAST-MODIFIED:20251103T004331Z
UID:1353-1765015200-1765022400@corinella.org.au
SUMMARY:Our Corinella (CRRA) General Meeting
DESCRIPTION:Agenda and Financial Report will be emailed directly to financial members \n\n\n\nAny queries or concerns can be directed to us using the Contact Us page on this website
URL:https://corinella.org.au/event/our-corinella-crra-general-meeting-7/
LOCATION:Corinella and District Community Centre\, 48 Smythe Street\, Corinella\, VIC\, 3984\, Australia
CATEGORIES:General Meetings
ORGANIZER;CN="CRRA Secretary":MAILTO:crra3984secretary@gmail.com
END:VEVENT
BEGIN:VEVENT
DTSTART;TZID=Australia/Melbourne:20250411T080000
DTEND;TZID=Australia/Melbourne:20250411T170000
DTSTAMP:20260424T065317
CREATED:20241008T032909Z
LAST-MODIFIED:20241008T032911Z
UID:1380-1744358400-1744390800@corinella.org.au
SUMMARY:Corinella Day
DESCRIPTION:Details and Timings to be confirmed
URL:https://corinella.org.au/event/corinella-day/
LOCATION:Harold Hughes Reserve\, Cnr Smythe and Balcombe Streets\, CORINELLA\, VIC\, 3984\, Australia
CATEGORIES:Social
END:VEVENT
BEGIN:VEVENT
DTSTART;TZID=Australia/Melbourne:20250302T100000
DTEND;TZID=Australia/Melbourne:20250302T140000
DTSTAMP:20260424T065317
CREATED:20241008T033306Z
LAST-MODIFIED:20241008T033309Z
UID:1382-1740909600-1740924000@corinella.org.au
SUMMARY:Cleanup Australia Day 2025
DESCRIPTION:Details to be advised
URL:https://corinella.org.au/event/cleanup-australia-day-2025/
LOCATION:Corinella BBQ and Picnic area (Rotunda)\, Cnr Peters St and The Esplanade\, Corinella\, VIC\, 3984\, Australia
CATEGORIES:Special Interest
END:VEVENT
BEGIN:VEVENT
DTSTART;TZID=Australia/Melbourne:20250215T190000
DTEND;TZID=Australia/Melbourne:20250215T230000
DTSTAMP:20260424T065317
CREATED:20241008T032659Z
LAST-MODIFIED:20241008T033622Z
UID:1376-1739646000-1739660400@corinella.org.au
SUMMARY:Wine and Cheese Night (TBC)
DESCRIPTION:Date\, Timings. and Details to be confirmed
URL:https://corinella.org.au/event/wine-and-cheese-night-tbc/
LOCATION:Corinella Public Hall\, Cnr Smythe St and Walpole St\, Corinella\, VIC\, 3984\, Australia
CATEGORIES:Social
END:VEVENT
BEGIN:VEVENT
DTSTART;TZID=Australia/Melbourne:20241115T183000
DTEND;TZID=Australia/Melbourne:20241115T220000
DTSTAMP:20260424T065317
CREATED:20241008T031934Z
LAST-MODIFIED:20241019T002027Z
UID:1372-1731695400-1731708000@corinella.org.au
SUMMARY:Trivia Night
DESCRIPTION:
URL:https://corinella.org.au/event/trivia-night/
LOCATION:Corinella Bowling Club\, Cnr Balcombe Street and Anderson Parade\, Corinella\, VIC\, 3984\, Australia
CATEGORIES:Social
ATTACH;FMTTYPE=image/png:https://corinella.org.au/wp-content/uploads/2024/10/Trivia-is-BACK-Friday-15th-November-1.png
END:VEVENT
BEGIN:VEVENT
DTSTART;TZID=Australia/Melbourne:20241102T150000
DTEND;TZID=Australia/Melbourne:20241102T170000
DTSTAMP:20260424T065317
CREATED:20241019T005840Z
LAST-MODIFIED:20241019T010035Z
UID:1401-1730559600-1730566800@corinella.org.au
SUMMARY:Our Corinella (CRRA) Special General Meeting
DESCRIPTION:A special general meeting will be held on 2 November 2024 commencing at 3PM.  \n\n\n\nThe purpose of the meeting is to consider a motion for the CRRA to take over the management of the Corinella market. Details to support the motion are included in the agenda. \n\n\n\nMembers are reminded that only financial members present will be able to vote on any motions
URL:https://corinella.org.au/event/special-general-meeting/
LOCATION:Corinella and District Community Centre\, 48 Smythe Street\, Corinella\, VIC\, 3984\, Australia
CATEGORIES:General Meetings,Market
ORGANIZER;CN="CRRA Secretary":MAILTO:crra3984secretary@gmail.com
END:VEVENT
BEGIN:VEVENT
DTSTART;TZID=Australia/Melbourne:20241005T100000
DTEND;TZID=Australia/Melbourne:20241005T120000
DTSTAMP:20260424T065317
CREATED:20240902T021051Z
LAST-MODIFIED:20240902T021054Z
UID:1345-1728122400-1728129600@corinella.org.au
SUMMARY:Our Corinella (CRRA) General Meeting
DESCRIPTION:Agenda and Financial Report will be emailed directly to financial members \n\n\n\nAny queries or concerns can be directed to us using the Contact Us page on this website
URL:https://corinella.org.au/event/our-corinella-crra-general-meeting-3/
LOCATION:Corinella and District Community Centre\, 48 Smythe Street\, Corinella\, VIC\, 3984\, Australia
CATEGORIES:General Meetings
ORGANIZER;CN="CRRA Secretary":MAILTO:crra3984secretary@gmail.com
END:VEVENT
BEGIN:VEVENT
DTSTART;TZID=Australia/Melbourne:20240803T100000
DTEND;TZID=Australia/Melbourne:20240803T120000
DTSTAMP:20260424T065317
CREATED:20231203T214759Z
LAST-MODIFIED:20231203T214836Z
UID:1313-1722679200-1722686400@corinella.org.au
SUMMARY:Our Corinella (CRRA) Annual General and General Meeting
DESCRIPTION:Agenda and Financial Report will be emailed directly to financial members \n\n\n\nAny queries or concerns can be directed to us using the Contact Us page on this website
URL:https://corinella.org.au/event/our-corinella-crra-annual-general-and-general-meeting/
LOCATION:Corinella and District Community Centre\, 48 Smythe Street\, Corinella\, VIC\, 3984\, Australia
CATEGORIES:Annual General Meeting,General Meetings
END:VEVENT
BEGIN:VEVENT
DTSTART;TZID=Australia/Melbourne:20240601T100000
DTEND;TZID=Australia/Melbourne:20240601T120000
DTSTAMP:20260424T065317
CREATED:20231203T214539Z
LAST-MODIFIED:20231203T214542Z
UID:1311-1717236000-1717243200@corinella.org.au
SUMMARY:Our Corinella (CRRA) General Meeting
DESCRIPTION:Agenda and Financial Report will be emailed directly to financial members \n\n\n\nAny queries or concerns can be directed to us using the Contact Us page on this website
URL:https://corinella.org.au/event/our-corinella-crra-general-meeting-2/
LOCATION:VIC
CATEGORIES:General Meetings
END:VEVENT
BEGIN:VEVENT
DTSTART;TZID=Australia/Melbourne:20240406T100000
DTEND;TZID=Australia/Melbourne:20240406T120000
DTSTAMP:20260424T065317
CREATED:20231203T214324Z
LAST-MODIFIED:20231203T214326Z
UID:1308-1712397600-1712404800@corinella.org.au
SUMMARY:Our Corinella (CRRA) General Meeting
DESCRIPTION:Agenda and Financial Report will be emailed directly to financial members \n\n\n\nAny queries or concerns can be directed to us using the Contact Us page on this website
URL:https://corinella.org.au/event/our-corinella-crra-general-meeting/
LOCATION:Corinella and District Community Centre\, 48 Smythe Street\, Corinella\, VIC\, 3984\, Australia
CATEGORIES:General Meetings
END:VEVENT
BEGIN:VEVENT
DTSTART;TZID=Australia/Melbourne:20240303T120000
DTEND;TZID=Australia/Melbourne:20240303T120000
DTSTAMP:20260424T065317
CREATED:20230717T041403Z
LAST-MODIFIED:20230717T043017Z
UID:1207-1709467200-1709467200@corinella.org.au
SUMMARY:Cleanup Australia Day 2024
DESCRIPTION:
URL:https://corinella.org.au/event/cleanup-australia-day-2024/
LOCATION:Corinella BBQ and Picnic Area\, The Esplanade\, Corinella\, Victoria\, 3984\, Australia
CATEGORIES:Special Interest
END:VEVENT
BEGIN:VEVENT
DTSTART;TZID=Australia/Melbourne:20240203T100000
DTEND;TZID=Australia/Melbourne:20240203T120000
DTSTAMP:20260424T065317
CREATED:20231203T205939Z
LAST-MODIFIED:20231203T214416Z
UID:1306-1706954400-1706961600@corinella.org.au
SUMMARY:Our Corinella (CRRA) General Meeting
DESCRIPTION:Agenda and Financial Report will be emailed directly to financial members \n\n\n\nAny queries or concerns can be directed to us using the Contact Us page on this website
URL:https://corinella.org.au/event/corinella-residents-and-ratepayers-association-general-meeting-3/
LOCATION:Corinella and District Community Centre\, 48 Smythe Street\, Corinella\, VIC\, 3984\, Australia
CATEGORIES:General Meetings
END:VEVENT
BEGIN:VEVENT
DTSTART;TZID=Australia/Melbourne:20231216T180000
DTEND;TZID=Australia/Melbourne:20231216T210000
DTSTAMP:20260424T065317
CREATED:20230717T040249Z
LAST-MODIFIED:20231109T034953Z
UID:1199-1702749600-1702760400@corinella.org.au
SUMMARY:Carols in the Park 2023
DESCRIPTION:
URL:https://corinella.org.au/event/carols-in-the-park-2023/
LOCATION:Hughes Reserve Corinella\, Cnr Smythe and Balcombe Streets\, CORINELLA\, Victoria\, 3984\, Australia
CATEGORIES:Social
END:VEVENT
BEGIN:VEVENT
DTSTART;TZID=Australia/Melbourne:20231202T100000
DTEND;TZID=Australia/Melbourne:20231202T120000
DTSTAMP:20260424T065317
CREATED:20230717T042618Z
LAST-MODIFIED:20230717T042621Z
UID:1218-1701511200-1701518400@corinella.org.au
SUMMARY:Corinella Residents and Ratepayers Association General Meeting
DESCRIPTION:Agenda and Financial Report will be emailed directly to financial members \n\n\n\nAny queries or concerns can be directed to us using the Contact Us page on this website
URL:https://corinella.org.au/event/corinella-residents-and-ratepayers-association-general-meeting-2/
LOCATION:Corinella and District Community Centre\, 48 Smythe Street\, Corinella\, VIC\, 3984\, Australia
CATEGORIES:General Meetings
END:VEVENT
BEGIN:VEVENT
DTSTART;TZID=Australia/Melbourne:20231007T100000
DTEND;TZID=Australia/Melbourne:20231007T120000
DTSTAMP:20260424T065317
CREATED:20230717T042432Z
LAST-MODIFIED:20230717T043122Z
UID:1214-1696672800-1696680000@corinella.org.au
SUMMARY:Corinella Residents and Ratepayers Association General Meeting
DESCRIPTION:Agenda and Financial Report will be emailed directly to financial members \n\n\n\nAny queries or concerns can be directed to us using the Contact Us page on this website
URL:https://corinella.org.au/event/corinella-residents-and-ratepayers-association-general-meeting/
LOCATION:Corinella and District Community Centre\, 48 Smythe Street\, Corinella\, VIC\, 3984\, Australia
CATEGORIES:General Meetings
END:VEVENT
BEGIN:VEVENT
DTSTART;TZID=Australia/Melbourne:20230805T100000
DTEND;TZID=Australia/Melbourne:20230805T120000
DTSTAMP:20260424T065317
CREATED:20230530T043156Z
LAST-MODIFIED:20230717T043150Z
UID:1122-1691229600-1691236800@corinella.org.au
SUMMARY:Corinella Residents and Ratepayers Annual General & General Meeting
DESCRIPTION:Agenda and Financial Report will be emailed directly to financial members \n\n\n\nAny queries or concerns can be directed to us using the Contact Us page on this website
URL:https://corinella.org.au/event/corinella-residents-and-ratepayers-general-meeting-4/
LOCATION:Corinella and District Community Centre\, 48 Smythe Street\, Corinella\, VIC\, 3984\, Australia
CATEGORIES:Annual General Meeting,General Meetings
END:VEVENT
BEGIN:VEVENT
DTSTART;TZID=Australia/Melbourne:20230126T110000
DTEND;TZID=Australia/Melbourne:20230126T143000
DTSTAMP:20260424T065317
CREATED:20230123T223903Z
LAST-MODIFIED:20230123T224254Z
UID:934-1674730800-1674743400@corinella.org.au
SUMMARY:Australia Day Community Celebration
DESCRIPTION:Free CFA Sausage Sizzle and Soft Drinks \n\n\n\nKids’ Sack Races and Frisbee Competition \n\n\n\nB.Y.O Chairs\, Nibbles and Sunscreen
URL:https://corinella.org.au/event/australia-day-community-celebration/
LOCATION:Hughes Reserve Corinella\, Cnr Smythe and Balcombe Streets\, CORINELLA\, Victoria\, 3984\, Australia
CATEGORIES:Social
ATTACH;FMTTYPE=image/png:https://corinella.org.au/wp-content/uploads/2023/01/327050202_1067146564678723_5196819083904729989_n.png
END:VEVENT
BEGIN:VEVENT
DTSTART;TZID=Australia/Melbourne:20221217T180000
DTEND;TZID=Australia/Melbourne:20221217T210000
DTSTAMP:20260424T065317
CREATED:20221006T220141Z
LAST-MODIFIED:20221103T022935Z
UID:717-1671300000-1671310800@corinella.org.au
SUMMARY:Carols in the Park
DESCRIPTION:  \nPack your picnic or enjoy a CFA barbecue\, for a wonderful evening with Carols in the Park\, 6pm Saturday December 17th. \n\nSanta\nColouring competition\nChildren’s choir\nFairy floss\, snow cones and popcorn!\nGlow in dark sticks electronic candles and more
URL:https://corinella.org.au/event/carols-in-the-park/
LOCATION:Harold Hughes Reserve\, Cnr Smythe and Balcombe Streets\, CORINELLA\, VIC\, 3984\, Australia
CATEGORIES:Social
ATTACH;FMTTYPE=image/jpeg:https://corinella.org.au/wp-content/uploads/2022/10/carolsinthepark17.jpg
ORGANIZER;CN="CRRA Community Building Sub-committee":MAILTO:crra3984secretary@gmail.com
END:VEVENT
BEGIN:VEVENT
DTSTART;TZID=Australia/Melbourne:20221203T100000
DTEND;TZID=Australia/Melbourne:20221203T120000
DTSTAMP:20260424T065317
CREATED:20221010T013741Z
LAST-MODIFIED:20221010T014557Z
UID:758-1670061600-1670068800@corinella.org.au
SUMMARY:Corinella Residents and Ratepayers General Meeting
DESCRIPTION:Agenda and Financial Report will be emailed directly to financial members \nAny queries or concerns can be directed to us using the Contact Us page on this website
URL:https://corinella.org.au/event/corinella-residents-and-ratepayers-general-meeting-2/
LOCATION:Corinella and District Community Centre\, 48 Smythe Street\, Corinella\, VIC\, 3984\, Australia
CATEGORIES:General Meetings
ATTACH;FMTTYPE=image/jpeg:https://corinella.org.au/wp-content/uploads/2022/06/CDCC.jpg
ORGANIZER;CN="CRRA Secretary":MAILTO:crra3984secretary@gmail.com
END:VEVENT
BEGIN:VEVENT
DTSTART;TZID=Australia/Melbourne:20221118T170000
DTEND;TZID=Australia/Melbourne:20221118T200000
DTSTAMP:20260424T065317
CREATED:20221027T021312Z
LAST-MODIFIED:20221027T022710Z
UID:818-1668790800-1668801600@corinella.org.au
SUMMARY:Bass Valley Primary School  -  Annual Fete & DuckLotto
DESCRIPTION:Ducklotto is getting ever so close! November 18th 5pm-8pm \n\n\n\nPre order your wrist band tickets on Compasstix.com. Search Bass Valley and the Ducklotto wrist bands will pop up straight away\, it’s that easy. \n\n\n\nTickets are only $20 per child and this gives them all night endless entertainment on the rides that you see below plus our new Bass Valley mini golf course. \n\n\n\nDon’t forget if you pre order tickets are only $20\, on the night they are $25.
URL:https://corinella.org.au/event/ducklotto/
LOCATION:Bass Valley Primary School\, 70 Corinella Road\, CORINELLA\, VIC\, 3984\, Australia
CATEGORIES:Social
ATTACH;FMTTYPE=image/png:https://corinella.org.au/wp-content/uploads/2022/10/ducklotto.png
END:VEVENT
BEGIN:VEVENT
DTSTART;TZID=Australia/Melbourne:20221113T140000
DTEND;TZID=Australia/Melbourne:20221113T140000
DTSTAMP:20260424T065317
CREATED:20221101T031856Z
LAST-MODIFIED:20221101T032146Z
UID:844-1668348000-1668348000@corinella.org.au
SUMMARY:Concordia Mandolin and Guitar Ensemble
DESCRIPTION:The Concordia Mandolin and Guitar Ensemble are holding their first concert in Corinella. Judy and Carol have been regulars at the Corinella Art Show with a wide range of uplifting music including traditional Greek and Hungarian.  Other local musicians will join them. \n\n\n\nAdults                $25Concession       $20Children 12+     $10Children <12     FreeSupper providedTickets at the door
URL:https://corinella.org.au/event/concordia-mandolin-and-guitar-ensemble/
LOCATION:Corinella Public Hall\, 38 Smythe Street\, Corinella\, Victoria\, 3984
CATEGORIES:Social
ATTACH;FMTTYPE=image/jpeg:https://corinella.org.au/wp-content/uploads/2022/11/Concordia.jpg
END:VEVENT
BEGIN:VEVENT
DTSTART;TZID=Australia/Melbourne:20221111T190000
DTEND;TZID=Australia/Melbourne:20221111T210000
DTSTAMP:20260424T065317
CREATED:20221006T215538Z
LAST-MODIFIED:20221019T023558Z
UID:712-1668193200-1668200400@corinella.org.au
SUMMARY:Meet the Candidates Panel
DESCRIPTION:The 2022 State Election Candidates for the Bass Electorate have been invited to attend a public meeting to be chaired by our Bass Coast Councillor\, Claire Le Serve.\nQuestions from the floor will be taken with a time limit of one minute.  Candidates will then have 2 minutes to reply.\nAll present to be respectful\, no abusive or threatening language. \n6.30pm for 7pm start. 
URL:https://corinella.org.au/event/meet-the-candidates-panel/
LOCATION:Corinella Public Hall\, 38 Smythe Street\, Corinella\, Victoria\, 3984
CATEGORIES:Special Interest
ATTACH;FMTTYPE=image/jpeg:https://corinella.org.au/wp-content/uploads/2022/10/Candidates_Forum.jpg
ORGANIZER;CN="CRRA Community Building Sub-committee":MAILTO:crra3984secretary@gmail.com
END:VEVENT
BEGIN:VEVENT
DTSTART;TZID=Australia/Melbourne:20221001T100000
DTEND;TZID=Australia/Melbourne:20221001T120000
DTSTAMP:20260424T065317
CREATED:20221010T013705Z
LAST-MODIFIED:20221010T013706Z
UID:755-1664618400-1664625600@corinella.org.au
SUMMARY:Corinella Residents and Ratepayers Annual General Meeting
DESCRIPTION:Annual General Meeting\, followed by a General Meeting. \nAgenda and Financial Report will be emailed directly to financial members \nAny queries or concerns can be directed to us using the Contact Us page on this website
URL:https://corinella.org.au/event/corinella-residents-and-ratepayers-annual-general-meeting/
LOCATION:Corinella and District Community Centre\, 48 Smythe Street\, Corinella\, VIC\, 3984\, Australia
CATEGORIES:Annual General Meeting,General Meetings
ORGANIZER;CN="CRRA Secretary":MAILTO:crra3984secretary@gmail.com
END:VEVENT
BEGIN:VEVENT
DTSTART;TZID=Australia/Melbourne:20220806T100000
DTEND;TZID=Australia/Melbourne:20220806T120000
DTSTAMP:20260424T065317
CREATED:20220428T054042Z
LAST-MODIFIED:20220608T224540Z
UID:97-1659780000-1659787200@corinella.org.au
SUMMARY:Corinella Residents and Ratepayers Annual General Meeting
DESCRIPTION:Annual General Meeting\, followed by a General Meeting. \nAgenda and Financial Report will be emailed directly to financial members \nAny queries or concerns can be directed to us using the Contact Us page on this website
URL:https://corinella.org.au/event/annual-general-meeting/
LOCATION:Corinella and District Community Centre\, 48 Smythe Street\, Corinella\, VIC\, 3984\, Australia
CATEGORIES:Annual General Meeting,General Meetings
ATTACH;FMTTYPE=image/jpeg:https://corinella.org.au/wp-content/uploads/2022/06/CDCC.jpg
ORGANIZER;CN="CRRA Secretary":MAILTO:crra3984secretary@gmail.com
END:VEVENT
BEGIN:VEVENT
DTSTART;TZID=Australia/Melbourne:20220618T100000
DTEND;TZID=Australia/Melbourne:20220618T120000
DTSTAMP:20260424T065317
CREATED:20220608T224047Z
LAST-MODIFIED:20220608T224632Z
UID:415-1655546400-1655553600@corinella.org.au
SUMMARY:Corinella Residents and Ratepayers General Meeting
DESCRIPTION:A quorum was not achieved for Saturday’s meeting and so it was consequently adjourned under Rule 36(1). We are required to hold another meeting not more than 21 days under Rule 36(b)(i). The next meeting shall be held on Saturday 18 June at 10AM at the Corinella & District Community Centre (Balcombe St entrance).\n \nAll members have been emailed with Minutes and Agenda attached\n \nAny queries or concerns can be directed to us using the Contact Us page on this website
URL:https://corinella.org.au/event/corinella-residents-and-ratepayers-general-meeting/
LOCATION:Corinella and District Community Centre\, 48 Smythe Street\, Corinella\, VIC\, 3984\, Australia
CATEGORIES:General Meetings
ATTACH;FMTTYPE=image/jpeg:https://corinella.org.au/wp-content/uploads/2022/06/CDCC.jpg
ORGANIZER;CN="CRRA Secretary":MAILTO:crra3984secretary@gmail.com
END:VEVENT
BEGIN:VEVENT
DTSTART;TZID=Australia/Melbourne:20220604T100000
DTEND;TZID=Australia/Melbourne:20220604T120000
DTSTAMP:20260424T065317
CREATED:20220428T030413Z
LAST-MODIFIED:20220428T030651Z
UID:89-1654336800-1654344000@corinella.org.au
SUMMARY:General Meeting
DESCRIPTION:Meeting Agenda and Financial Report will be emailed directly to financial members. \nAny queries or concerns can be directed to us using the Contact Us page on this website
URL:https://corinella.org.au/event/general-meeting/
LOCATION:Corinella and District Community Centre\, 48 Smythe Street\, Corinella\, VIC\, 3984\, Australia
CATEGORIES:General Meetings
ATTACH;FMTTYPE=image/gif:https://corinella.org.au/wp-content/uploads/2022/04/CRRA_logo.gif
ORGANIZER;CN="CRRA Secretary":MAILTO:crra3984secretary@gmail.com
END:VEVENT
END:VCALENDAR